BEGIN:VCALENDAR
VERSION:2.0
PRODID:-//Movicar Carrelli Elevatori - ECPv6.14.2//NONSGML v1.0//EN
CALSCALE:GREGORIAN
METHOD:PUBLISH
X-WR-CALNAME:Movicar Carrelli Elevatori
X-ORIGINAL-URL:https://movicarsrl.it
X-WR-CALDESC:Eventi per Movicar Carrelli Elevatori
REFRESH-INTERVAL;VALUE=DURATION:PT1H
X-Robots-Tag:noindex
X-PUBLISHED-TTL:PT1H
BEGIN:VTIMEZONE
TZID:Europe/Paris
BEGIN:DAYLIGHT
TZOFFSETFROM:+0100
TZOFFSETTO:+0200
TZNAME:CEST
DTSTART:20260329T010000
END:DAYLIGHT
BEGIN:STANDARD
TZOFFSETFROM:+0200
TZOFFSETTO:+0100
TZNAME:CET
DTSTART:20261025T010000
END:STANDARD
END:VTIMEZONE
BEGIN:VEVENT
DTSTART;TZID=Europe/Paris:20260423T083000
DTEND;TZID=Europe/Paris:20260424T003000
DTSTAMP:20260424T180132
CREATED:20260323T103953Z
LAST-MODIFIED:20260323T103953Z
UID:5971-1776933000-1776990600@movicarsrl.it
SUMMARY:Corso di formazione addetti carrelli elevatori 23-24 APRILE
DESCRIPTION:Patentino muletto. \nCorso di formazione per lavoratori addetti alla conduzione di carrelli elevatori industriali semoventi secondo l’Accordo Stato regioni del 22/02/2012. \nDurata: 12 ore \nValidità: quinquennale \nSono annoverati tra i carrelli industriali semoventi qualunque veicolo su ruote\, ad esclusione di quelli circolanti su rotaie\, concepito per trasportare trainare\, spingere\, sollevare\, impilare o disporre su scaffalature qualsiasi tipo di carico ed azionato da un operatore a bordo con sedile. \nLa parte teorica sarà erogata il primo giorno con test teorico finale (8 ore). \nIl secondo giorno sarà erogata la parte pratica al mattino con test pratico finale (4 ore). \nPer saperne di più sul programma di formazione sui carrelli elevatori. \nIscriviti o chiedi info su direzione@movicarsrl.it o chiama lo 010 7450240 – 010 7450098 \nScarica la scheda di iscrizione. \nScarica il calendario dei corsi 2026 \n  \n 
URL:https://movicarsrl.it/event/corso-di-formazione-addetti-carrelli-elevatori-23-24-aprile/
CATEGORIES:Corsi di formazione carrelli elevatori
END:VEVENT
END:VCALENDAR